BEGIN:VCALENDAR
VERSION:2.0
PRODID:-//ChamberMaster//Event Calendar 2.0//EN
METHOD:PUBLISH
X-PUBLISHED-TTL:P3D
REFRESH-INTERVAL:P3D
CALSCALE:GREGORIAN
BEGIN:VEVENT
DTSTART:20260730T213000Z
DTEND:20260730T230000Z
X-MICROSOFT-CDO-ALLDAYEVENT:FALSE
SUMMARY:Business After Hours & Nonprofit Expo.
DESCRIPTION:Join us for our monthly networking event! Connect with fellow professionals from across the community in a relaxed\, welcoming setting. Build relationships\, grow your network\, and enjoy a great evening.\n\n\n\nThis month the Business After Hours event is hosted by our nonprofit members.
X-ALT-DESC;FMTTYPE=text/html:Join us for our monthly networking event! Connect with fellow professionals from across the community in a relaxed\, welcoming setting. Build relationships\, grow your network\, and enjoy a great evening.<br />\n<br />\nThis month the Business After Hours event is hosted by our nonprofit members.&nbsp\;
LOCATION:Dorchester Seniors\, Inc. 312 N. Laurel Street Summerville\, SC 29483
UID:e.280.27196
SEQUENCE:3
DTSTAMP:20260424T142601Z
URL:https://business-dev.greatersummerville.org/events/details/business-after-hours-nonprofit-expo-27196
END:VEVENT

END:VCALENDAR
