BEGIN:VCALENDAR
VERSION:2.0
PRODID:-//ChamberMaster//Event Calendar 2.0//EN
METHOD:PUBLISH
X-PUBLISHED-TTL:P3D
REFRESH-INTERVAL:P3D
CALSCALE:GREGORIAN
BEGIN:VEVENT
DTSTART:20260513T193000Z
DTEND:20260513T203000Z
X-MICROSOFT-CDO-ALLDAYEVENT:FALSE
SUMMARY:Ribbon Cutting - The Bastion Group
DESCRIPTION:Join us for the ribbon cutting of The Bastion Group\, where their engineering and construction specialist can help you from concept to completion. \n\n\n\nFounded in 2019 by Keane Steele\, The Bastion Group is built on treating people right and keeping its word. The company has completed hundreds of projects\, earning client trust through consistent results. It continues to grow while maintaining strong relationships and offering engineering\, construction\, and consulting services.
X-ALT-DESC;FMTTYPE=text/html:Join us for the ribbon cutting of The Bastion Group\, where their engineering and construction specialist can help you from concept to completion.&nbsp\;<br />\n<br />\nFounded in 2019 by Keane Steele\, The Bastion Group is built on treating people right and keeping its word. The company has completed hundreds of projects\, earning client trust through consistent results. It continues to grow while maintaining strong relationships and offering engineering\, construction\, and consulting services.
LOCATION:107 W 5th North Street\, Summerville\, SC 29483
UID:e.280.27346
SEQUENCE:3
DTSTAMP:20260424T111348Z
URL:https://business-dev.greatersummerville.org/events/details/ribbon-cutting-the-bastion-group-27346
END:VEVENT

END:VCALENDAR
